View In:
ArcGIS JavaScript
ArcGIS Online Map Viewer
ArcGIS Earth
Service Description: PAV_PJ_CS_PDQ
Name: PAV_PJ_CS_PDQ
Description:
Single Fused Map Cache: false
Extent:
XMin: 2498037.3628639635
YMin: 1114394.6926646768
XMax: 2499968.761077883
YMax: 1117341.7652666913
Spatial Reference: 2056
(2056)
LatestVCSWkid(0)
Initial Extent:
XMin: 2498037.3628639635
YMin: 1114394.6926646768
XMax: 2499968.761077883
YMax: 1117341.7652666913
Spatial Reference: 2056
(2056)
LatestVCSWkid(0)
Full Extent:
XMin: 2498037.3628639635
YMin: 1114394.6926646768
XMax: 2499968.761077883
YMax: 1117341.7652666913
Spatial Reference: 2056
(2056)
LatestVCSWkid(0)
Pixel Size X: 0.8430371950762627
Pixel Size Y: 0.8403400633061087
Band Count: 3
Pixel Type: U8
RasterFunction Infos: {"rasterFunctionInfos": [{
"name": "None",
"description": "",
"help": ""
}]}
Mensuration Capabilities: Basic
Inspection Capabilities:
Has Histograms: true
Has Colormap: false
Has Multi Dimensions : false
Rendering Rule:
Min Scale: 0
Max Scale: 0
Copyright Text:
Service Data Type: esriImageServiceDataTypeRGB
Min Values: 0, 0, 0
Max Values: 255, 255, 255
Mean Values: 204.11188074683085, 203.04175461510727, 178.65971978223513
Standard Deviation Values: 45.939997347200176, 48.5721052631936, 75.05530076734588
Object ID Field:
Fields:
None
Default Mosaic Method: Center
Allowed Mosaic Methods:
SortField:
SortValue: null
Mosaic Operator: First
Default Compression Quality: 75
Default Resampling Method: Bilinear
Max Record Count: null
Max Image Height: 4100
Max Image Width: 15000
Max Download Image Count: null
Max Mosaic Image Count: null
Allow Raster Function: true
Allow Copy: true
Allow Analysis: true
Allow Compute TiePoints: false
Supports Statistics: false
Supports Advanced Queries: false
Use StandardizedQueries: true
Raster Type Infos:
Name: Raster Dataset
Description: Supports all ArcGIS Raster Datasets
Help:
Has Raster Attribute Table: false
Edit Fields Info: null
Ownership Based AccessControl For Rasters: null
Child Resources:
Info
Histograms
Statistics
Key Properties
Legend
Raster Function Infos
Supported Operations:
Export Image
Identify
Measure
Compute Histograms
Compute Statistics Histograms
Get Samples
Compute Class Statistics
Query Boundary
Compute Pixel Location
Compute Angles
Validate
Project