View In:
ArcGIS JavaScript
ArcGIS Online Map Viewer
ArcGIS Earth
Service Description: Agglo - Fond de plan pour les données du Grand Genève
Name: AGGLO_FOND_PA
Description:
Single Fused Map Cache: false
Extent:
XMin: 2462494.049696884
YMin: 1085971.9485579373
XMax: 2536331.4066739245
YMax: 1158332.558395436
Spatial Reference: 2056
(2056)
LatestVCSWkid(0)
Initial Extent:
XMin: 2462494.049696884
YMin: 1085971.9485579373
XMax: 2536331.4066739245
YMax: 1158332.558395436
Spatial Reference: 2056
(2056)
LatestVCSWkid(0)
Full Extent:
XMin: 2462494.049696884
YMin: 1085971.9485579373
XMax: 2536331.4066739245
YMax: 1158332.558395436
Spatial Reference: 2056
(2056)
LatestVCSWkid(0)
Pixel Size X: 7.383735697704042
Pixel Size Y: 7.383735697703954
Band Count: 3
Pixel Type: U8
RasterFunction Infos: {"rasterFunctionInfos": [{
"name": "None",
"description": "",
"help": ""
}]}
Mensuration Capabilities: Basic
Inspection Capabilities:
Has Histograms: true
Has Colormap: false
Has Multi Dimensions : false
Rendering Rule:
Min Scale: 0
Max Scale: 0
Copyright Text: DPA
Service Data Type: esriImageServiceDataTypeRGB
Min Values: 103, 103, 103
Max Values: 255, 255, 255
Mean Values: 238.58201224489795, 239.78896953061223, 236.83998574489797
Standard Deviation Values: 19.565008315548987, 19.240364209080113, 21.28793734247424
Object ID Field:
Fields:
None
Default Mosaic Method: Center
Allowed Mosaic Methods:
SortField:
SortValue: null
Mosaic Operator: First
Default Compression Quality: 75
Default Resampling Method: Nearest
Max Record Count: null
Max Image Height: 8192
Max Image Width: 8192
Max Download Image Count: null
Max Mosaic Image Count: null
Allow Raster Function: true
Allow Copy: true
Allow Analysis: true
Allow Compute TiePoints: false
Supports Statistics: false
Supports Advanced Queries: false
Use StandardizedQueries: true
Raster Type Infos:
Name: Raster Dataset
Description: Supports all ArcGIS Raster Datasets
Help:
Has Raster Attribute Table: false
Edit Fields Info: null
Ownership Based AccessControl For Rasters: null
Child Resources:
Info
Histograms
Statistics
Key Properties
Legend
Raster Function Infos
Supported Operations:
Export Image
Identify
Measure
Compute Histograms
Compute Statistics Histograms
Get Samples
Compute Class Statistics
Query Boundary
Compute Pixel Location
Compute Angles
Validate
Project