View In:
ArcGIS JavaScript
ArcGIS Online Map Viewer
ArcGIS Earth
Service Description: HISTO_ATLAS_MAYER_1828_1831
Name: HISTO_ATLAS_MAYER_1828_1831
Description:
Single Fused Map Cache: false
Extent:
XMin: 2482109.178221859
YMin: 1106516.5217754587
XMax: 2514755.343021859
YMax: 1137441.1989754587
Spatial Reference: 2056
(2056)
LatestVCSWkid(0)
Initial Extent:
XMin: 2482109.178221859
YMin: 1106516.5217754587
XMax: 2514755.343021859
YMax: 1137441.1989754587
Spatial Reference: 2056
(2056)
LatestVCSWkid(0)
Full Extent:
XMin: 2482109.178221859
YMin: 1106516.5217754587
XMax: 2514755.343021859
YMax: 1137441.1989754587
Spatial Reference: 2056
(2056)
LatestVCSWkid(0)
Pixel Size X: 0.20187718241576072
Pixel Size Y: 0.20187665452456513
Band Count: 3
Pixel Type: U8
RasterFunction Infos: {"rasterFunctionInfos": [{
"name": "None",
"description": "",
"help": ""
}]}
Mensuration Capabilities: Basic
Inspection Capabilities:
Has Histograms: true
Has Colormap: false
Has Multi Dimensions : false
Rendering Rule:
Min Scale: 0
Max Scale: 0
Resampling: false
Copyright Text:
Service Data Type: esriImageServiceDataTypeRGB
Min Values: 37, 40, 35
Max Values: 255, 255, 255
Mean Values: 218.5563245428842, 212.6864146298732, 196.23437994635322
Standard Deviation Values: 23.768178627724772, 26.712568326913, 27.92960372269215
Object ID Field:
Fields:
None
Default Mosaic Method: Center
Allowed Mosaic Methods:
SortField:
SortValue: null
Mosaic Operator: First
Default Compression Quality: 75
Default Resampling Method: Bilinear
Max Record Count: null
Max Image Height: 4100
Max Image Width: 15000
Max Download Image Count: null
Max Mosaic Image Count: null
Allow Raster Function: true
Allow Copy: true
Allow Analysis: true
Allow Compute TiePoints: false
Supports Statistics: false
Supports Advanced Queries: false
Use StandardizedQueries: true
Raster Type Infos:
Name: Raster Dataset
Description: Supports all ArcGIS Raster Datasets
Help:
Has Raster Attribute Table: false
Edit Fields Info: null
Ownership Based AccessControl For Rasters: null
Child Resources:
Info
Histograms
Statistics
Key Properties
Legend
Raster Function Infos
Supported Operations:
Export Image
Identify
Measure
Compute Histograms
Compute Statistics Histograms
Get Samples
Compute Class Statistics
Query Boundary
Compute Pixel Location
Compute Angles
Validate
Project