View In:
ArcGIS JavaScript
ArcGIS Online Map Viewer
ArcGIS Earth
Service Description: HISTO_CARTE_ALFANI_FORNAREZIS_1589
Name: HISTO_CARTE_ALFANI_FORNAREZIS_1589
Description:
Single Fused Map Cache: false
Extent:
XMin: 2456743.807595794
YMin: 1070970.30601076
XMax: 2583473.5003610635
YMax: 1194371.1543116882
Spatial Reference: 2056
(2056)
LatestVCSWkid(0)
Initial Extent:
XMin: 2456743.807595794
YMin: 1070970.30601076
XMax: 2583473.5003610635
YMax: 1194371.1543116882
Spatial Reference: 2056
(2056)
LatestVCSWkid(0)
Full Extent:
XMin: 2456743.807595794
YMin: 1070970.30601076
XMax: 2583473.5003610635
YMax: 1194371.1543116882
Spatial Reference: 2056
(2056)
LatestVCSWkid(0)
Pixel Size X: 19.466926692053676
Pixel Size Y: 19.466926692053676
Band Count: 3
Pixel Type: U8
RasterFunction Infos: {"rasterFunctionInfos": [{
"name": "None",
"description": "",
"help": ""
}]}
Mensuration Capabilities: Basic
Inspection Capabilities:
Has Histograms: true
Has Colormap: false
Has Multi Dimensions : false
Rendering Rule:
Min Scale: 0
Max Scale: 0
Copyright Text:
Service Data Type: esriImageServiceDataTypeRGB
Min Values: 10, 5, 0
Max Values: 236, 226, 212
Mean Values: 165.6034936845073, 153.70513325510527, 133.5640843430826
Standard Deviation Values: 53.770794039649445, 51.903768800552335, 50.93802711267332
Object ID Field:
Fields:
None
Default Mosaic Method: Center
Allowed Mosaic Methods:
SortField:
SortValue: null
Mosaic Operator: First
Default Compression Quality: 75
Default Resampling Method: Bilinear
Max Record Count: null
Max Image Height: 4100
Max Image Width: 15000
Max Download Image Count: null
Max Mosaic Image Count: null
Allow Raster Function: true
Allow Copy: true
Allow Analysis: true
Allow Compute TiePoints: false
Supports Statistics: false
Supports Advanced Queries: false
Use StandardizedQueries: true
Raster Type Infos:
Name: Raster Dataset
Description: Supports all ArcGIS Raster Datasets
Help:
Has Raster Attribute Table: false
Edit Fields Info: null
Ownership Based AccessControl For Rasters: null
Child Resources:
Info
Histograms
Statistics
Key Properties
Legend
Raster Function Infos
Supported Operations:
Export Image
Identify
Measure
Compute Histograms
Compute Statistics Histograms
Get Samples
Compute Class Statistics
Query Boundary
Compute Pixel Location
Compute Angles
Validate
Project