View In:
ArcGIS JavaScript
ArcGIS Online Map Viewer
ArcGIS Earth
Service Description: HISTO_CARTE_DUFOUR_1842
Name: HISTO_CARTE_DUFOUR_1842
Description:
Single Fused Map Cache: false
Extent:
XMin: 2469342.000467128
YMin: 1105927.779936903
XMax: 2527501.604690549
YMax: 1138456.3221564312
Spatial Reference: 2056
(2056)
LatestVCSWkid(0)
Initial Extent:
XMin: 2469342.000467128
YMin: 1105927.779936903
XMax: 2527501.604690549
YMax: 1138456.3221564312
Spatial Reference: 2056
(2056)
LatestVCSWkid(0)
Full Extent:
XMin: 2469342.000467128
YMin: 1105927.779936903
XMax: 2527501.604690549
YMax: 1138456.3221564312
Spatial Reference: 2056
(2056)
LatestVCSWkid(0)
Pixel Size X: 2.1268825826813256
Pixel Size Y: 2.126882582681328
Band Count: 3
Pixel Type: U8
RasterFunction Infos: {"rasterFunctionInfos": [{
"name": "None",
"description": "",
"help": ""
}]}
Mensuration Capabilities: Basic
Inspection Capabilities:
Has Histograms: true
Has Colormap: false
Has Multi Dimensions : false
Rendering Rule:
Min Scale: 0
Max Scale: 0
Resampling: false
Copyright Text:
Service Data Type: esriImageServiceDataTypeRGB
Min Values: 68, 59, 40
Max Values: 253, 246, 226
Mean Values: 227.49130148487487, 218.93234434577923, 193.14994310616922
Standard Deviation Values: 16.510627311766598, 16.91725805439585, 15.864452814653406
Object ID Field:
Fields:
None
Default Mosaic Method: Center
Allowed Mosaic Methods:
SortField:
SortValue: null
Mosaic Operator: First
Default Compression Quality: 75
Default Resampling Method: Bilinear
Max Record Count: null
Max Image Height: 4100
Max Image Width: 15000
Max Download Image Count: null
Max Mosaic Image Count: null
Allow Raster Function: true
Allow Copy: true
Allow Analysis: true
Allow Compute TiePoints: false
Supports Statistics: false
Supports Advanced Queries: false
Use StandardizedQueries: true
Raster Type Infos:
Name: Raster Dataset
Description: Supports all ArcGIS Raster Datasets
Help:
Has Raster Attribute Table: false
Edit Fields Info: null
Ownership Based AccessControl For Rasters: null
Child Resources:
Info
Histograms
Statistics
Key Properties
Legend
Raster Function Infos
Supported Operations:
Export Image
Identify
Measure
Compute Histograms
Compute Statistics Histograms
Get Samples
Compute Class Statistics
Query Boundary
Compute Pixel Location
Compute Angles
Validate
Project