View In:
ArcGIS JavaScript
ArcGIS Online Map Viewer
ArcGIS Earth
Service Description: HISTO_CARTE_ETAT_MAJOR_DUFOUR_ASSEMBLAGE
Name: HISTO_CARTE_ETAT_MAJOR_DUFOUR_ASSEMBLAGE
Description:
Single Fused Map Cache: false
Extent:
XMin: 2461949.2595659606
YMin: 1093448.046094386
XMax: 2558648.5940995016
YMax: 1160592.7567239187
Spatial Reference: 2056
(2056)
LatestVCSWkid(0)
Initial Extent:
XMin: 2461949.2595659606
YMin: 1093448.046094386
XMax: 2558648.5940995016
YMax: 1160592.7567239187
Spatial Reference: 2056
(2056)
LatestVCSWkid(0)
Full Extent:
XMin: 2461949.2595659606
YMin: 1093448.046094386
XMax: 2558648.5940995016
YMax: 1160592.7567239187
Spatial Reference: 2056
(2056)
LatestVCSWkid(0)
Pixel Size X: 1.711129220936102
Pixel Size Y: 1.7111292209361064
Band Count: 3
Pixel Type: U8
RasterFunction Infos: {"rasterFunctionInfos": [{
"name": "None",
"description": "",
"help": ""
}]}
Mensuration Capabilities: Basic
Inspection Capabilities:
Has Histograms: true
Has Colormap: false
Has Multi Dimensions : false
Rendering Rule:
Min Scale: 0
Max Scale: 0
Resampling: false
Copyright Text:
Service Data Type: esriImageServiceDataTypeRGB
Min Values: 0, 0, 0
Max Values: 255, 250, 237
Mean Values: 100.9244265405675, 90.80604274200682, 73.88454299179816
Standard Deviation Values: 76.00043621307952, 68.53871944652036, 56.79526644669325
Object ID Field:
Fields:
None
Default Mosaic Method: Center
Allowed Mosaic Methods:
SortField:
SortValue: null
Mosaic Operator: First
Default Compression Quality: 75
Default Resampling Method: Bilinear
Max Record Count: null
Max Image Height: 4100
Max Image Width: 15000
Max Download Image Count: null
Max Mosaic Image Count: null
Allow Raster Function: true
Allow Copy: true
Allow Analysis: true
Allow Compute TiePoints: false
Supports Statistics: false
Supports Advanced Queries: false
Use StandardizedQueries: true
Raster Type Infos:
Name: Raster Dataset
Description: Supports all ArcGIS Raster Datasets
Help:
Has Raster Attribute Table: false
Edit Fields Info: null
Ownership Based AccessControl For Rasters: null
Child Resources:
Info
Histograms
Statistics
Key Properties
Legend
Raster Function Infos
Supported Operations:
Export Image
Identify
Measure
Compute Histograms
Compute Statistics Histograms
Get Samples
Compute Class Statistics
Query Boundary
Compute Pixel Location
Compute Angles
Validate
Project