View In:
ArcGIS JavaScript
ArcGIS Online Map Viewer
ArcGIS Earth
Service Description: HISTO_CARTE_GOULART_1606
Name: HISTO_CARTE_GOULART_1606
Description:
Single Fused Map Cache: false
Extent:
XMin: 2448202.7709739744
YMin: 1073439.4071267066
XMax: 2578255.634066791
YMax: 1196699.9547891761
Spatial Reference: 2056
(2056)
LatestVCSWkid(0)
Initial Extent:
XMin: 2448202.7709739744
YMin: 1073439.4071267066
XMax: 2578255.634066791
YMax: 1196699.9547891761
Spatial Reference: 2056
(2056)
LatestVCSWkid(0)
Full Extent:
XMin: 2448202.7709739744
YMin: 1073439.4071267066
XMax: 2578255.634066791
YMax: 1196699.9547891761
Spatial Reference: 2056
(2056)
LatestVCSWkid(0)
Pixel Size X: 19.977398324549377
Pixel Size Y: 19.977398324549362
Band Count: 3
Pixel Type: U8
RasterFunction Infos: {"rasterFunctionInfos": [{
"name": "None",
"description": "",
"help": ""
}]}
Mensuration Capabilities: Basic
Inspection Capabilities:
Has Histograms: true
Has Colormap: false
Has Multi Dimensions : false
Rendering Rule:
Min Scale: 0
Max Scale: 0
Resampling: false
Copyright Text:
Service Data Type: esriImageServiceDataTypeRGB
Min Values: 0, 0, 0
Max Values: 232, 219, 208
Mean Values: 147.06897176597653, 122.99326870328704, 88.78445564389142
Standard Deviation Values: 42.76646765878907, 38.74351927703569, 35.78619411064591
Object ID Field:
Fields:
None
Default Mosaic Method: Center
Allowed Mosaic Methods:
SortField:
SortValue: null
Mosaic Operator: First
Default Compression Quality: 75
Default Resampling Method: Bilinear
Max Record Count: null
Max Image Height: 4100
Max Image Width: 15000
Max Download Image Count: null
Max Mosaic Image Count: null
Allow Raster Function: true
Allow Copy: true
Allow Analysis: true
Allow Compute TiePoints: false
Supports Statistics: false
Supports Advanced Queries: false
Use StandardizedQueries: true
Raster Type Infos:
Name: Raster Dataset
Description: Supports all ArcGIS Raster Datasets
Help:
Has Raster Attribute Table: false
Edit Fields Info: null
Ownership Based AccessControl For Rasters: null
Child Resources:
Info
Histograms
Statistics
Key Properties
Legend
Raster Function Infos
Supported Operations:
Export Image
Identify
Measure
Compute Histograms
Compute Statistics Histograms
Get Samples
Compute Class Statistics
Query Boundary
Compute Pixel Location
Compute Angles
Validate
Project