View In:
ArcGIS JavaScript
ArcGIS Online Map Viewer
ArcGIS Earth
Service Description: HISTO_CARTE_MICHELI_DU_CREST_1718
Name: HISTO_CARTE_MICHELI_DU_CREST_1718
Description:
Single Fused Map Cache: false
Extent:
XMin: 2498991.3999999985
YMin: 1116360.1999999995
XMax: 2501612.999999998
YMax: 1118911.3999999992
Spatial Reference: 2056
(2056)
LatestVCSWkid(0)
Initial Extent:
XMin: 2498991.3999999985
YMin: 1116360.1999999995
XMax: 2501612.999999998
YMax: 1118911.3999999992
Spatial Reference: 2056
(2056)
LatestVCSWkid(0)
Full Extent:
XMin: 2498991.3999999985
YMin: 1116360.1999999995
XMax: 2501612.999999998
YMax: 1118911.3999999992
Spatial Reference: 2056
(2056)
LatestVCSWkid(0)
Pixel Size X: 0.1999999999999716
Pixel Size Y: 0.19999999999997808
Band Count: 3
Pixel Type: U8
RasterFunction Infos: {"rasterFunctionInfos": [{
"name": "None",
"description": "",
"help": ""
}]}
Mensuration Capabilities: Basic
Inspection Capabilities:
Has Histograms: true
Has Colormap: false
Has Multi Dimensions : false
Rendering Rule:
Min Scale: 0
Max Scale: 0
Resampling: false
Copyright Text:
Service Data Type: esriImageServiceDataTypeRGB
Min Values: 49, 38, 14
Max Values: 255, 255, 254
Mean Values: 191.49320578110155, 179.53423169579204, 171.13549032158144
Standard Deviation Values: 23.450290194043188, 25.769419834872195, 29.05327252128443
Object ID Field:
Fields:
None
Default Mosaic Method: Center
Allowed Mosaic Methods:
SortField:
SortValue: null
Mosaic Operator: First
Default Compression Quality: 75
Default Resampling Method: Bilinear
Max Record Count: null
Max Image Height: 4100
Max Image Width: 15000
Max Download Image Count: null
Max Mosaic Image Count: null
Allow Raster Function: true
Allow Copy: true
Allow Analysis: true
Allow Compute TiePoints: false
Supports Statistics: false
Supports Advanced Queries: false
Use StandardizedQueries: true
Raster Type Infos:
Name: Raster Dataset
Description: Supports all ArcGIS Raster Datasets
Help:
Has Raster Attribute Table: false
Edit Fields Info: null
Ownership Based AccessControl For Rasters: null
Child Resources:
Info
Histograms
Statistics
Key Properties
Legend
Raster Function Infos
Supported Operations:
Export Image
Identify
Measure
Compute Histograms
Compute Statistics Histograms
Get Samples
Compute Class Statistics
Query Boundary
Compute Pixel Location
Compute Angles
Validate
Project