View In:
ArcGIS JavaScript
ArcGIS Online Map Viewer
ArcGIS Earth
Service Description: HISTO_CARTE_MICHELI_DU_CREST_1730
Name: HISTO_CARTE_MICHELI_DU_CREST_1730
Description:
Single Fused Map Cache: false
Extent:
XMin: 2493673.849555243
YMin: 1110616.1764080522
XMax: 2507463.591593643
YMax: 1123389.9117062911
Spatial Reference: 2056
(2056)
LatestVCSWkid(0)
Initial Extent:
XMin: 2493673.849555243
YMin: 1110616.1764080522
XMax: 2507463.591593643
YMax: 1123389.9117062911
Spatial Reference: 2056
(2056)
LatestVCSWkid(0)
Full Extent:
XMin: 2493673.849555243
YMin: 1110616.1764080522
XMax: 2507463.591593643
YMax: 1123389.9117062911
Spatial Reference: 2056
(2056)
LatestVCSWkid(0)
Pixel Size X: 1.8884883646124868
Pixel Size Y: 1.8884883646124966
Band Count: 3
Pixel Type: U8
RasterFunction Infos: {"rasterFunctionInfos": [{
"name": "None",
"description": "",
"help": ""
}]}
Mensuration Capabilities: Basic
Inspection Capabilities:
Has Histograms: true
Has Colormap: false
Has Multi Dimensions : false
Rendering Rule:
Min Scale: 0
Max Scale: 0
Resampling: false
Copyright Text:
Service Data Type: esriImageServiceDataTypeRGB
Min Values: 29, 22, 11
Max Values: 251, 241, 226
Mean Values: 177.58775397735445, 162.6425275410126, 129.65025727030047
Standard Deviation Values: 26.14481970003379, 23.30201573202567, 22.33807296961865
Object ID Field:
Fields:
None
Default Mosaic Method: Center
Allowed Mosaic Methods:
SortField:
SortValue: null
Mosaic Operator: First
Default Compression Quality: 75
Default Resampling Method: Bilinear
Max Record Count: null
Max Image Height: 4100
Max Image Width: 15000
Max Download Image Count: null
Max Mosaic Image Count: null
Allow Raster Function: true
Allow Copy: true
Allow Analysis: true
Allow Compute TiePoints: false
Supports Statistics: false
Supports Advanced Queries: false
Use StandardizedQueries: true
Raster Type Infos:
Name: Raster Dataset
Description: Supports all ArcGIS Raster Datasets
Help:
Has Raster Attribute Table: false
Edit Fields Info: null
Ownership Based AccessControl For Rasters: null
Child Resources:
Info
Histograms
Statistics
Key Properties
Legend
Raster Function Infos
Supported Operations:
Export Image
Identify
Measure
Compute Histograms
Compute Statistics Histograms
Get Samples
Compute Class Statistics
Query Boundary
Compute Pixel Location
Compute Angles
Validate
Project