View In:
ArcGIS JavaScript
ArcGIS Online Map Viewer
ArcGIS Earth
Service Description: HISTO_CARTE_TRAITE_TURIN_PARIS_ANNEXE_01_1749
Name: HISTO_CARTE_TRAITE_TURIN_PARIS_ANNEXE_01_1749
Description:
Single Fused Map Cache: false
Extent:
XMin: 2484204.073955151
YMin: 1113473.3491534942
XMax: 2502704.268155906
YMax: 1127325.5403468644
Spatial Reference: 2056
(2056)
LatestVCSWkid(0)
Initial Extent:
XMin: 2484204.073955151
YMin: 1113473.3491534942
XMax: 2502704.268155906
YMax: 1127325.5403468644
Spatial Reference: 2056
(2056)
LatestVCSWkid(0)
Full Extent:
XMin: 2484204.073955151
YMin: 1113473.3491534942
XMax: 2502704.268155906
YMax: 1127325.5403468644
Spatial Reference: 2056
(2056)
LatestVCSWkid(0)
Pixel Size X: 0.4393197549513214
Pixel Size Y: 0.43931975495132247
Band Count: 3
Pixel Type: U8
RasterFunction Infos: {"rasterFunctionInfos": [{
"name": "None",
"description": "",
"help": ""
}]}
Mensuration Capabilities: Basic
Inspection Capabilities:
Has Histograms: true
Has Colormap: false
Has Multi Dimensions : false
Rendering Rule:
Min Scale: 0
Max Scale: 0
Resampling: false
Copyright Text:
Service Data Type: esriImageServiceDataTypeRGB
Min Values: 34, 21, 14
Max Values: 255, 255, 255
Mean Values: 223.64619973975132, 214.0523102932015, 189.606864844402
Standard Deviation Values: 19.696571544193485, 19.03396676824845, 19.256538023254436
Object ID Field:
Fields:
None
Default Mosaic Method: Center
Allowed Mosaic Methods:
SortField:
SortValue: null
Mosaic Operator: First
Default Compression Quality: 75
Default Resampling Method: Bilinear
Max Record Count: null
Max Image Height: 4100
Max Image Width: 15000
Max Download Image Count: null
Max Mosaic Image Count: null
Allow Raster Function: true
Allow Copy: true
Allow Analysis: true
Allow Compute TiePoints: false
Supports Statistics: false
Supports Advanced Queries: false
Use StandardizedQueries: true
Raster Type Infos:
Name: Raster Dataset
Description: Supports all ArcGIS Raster Datasets
Help:
Has Raster Attribute Table: false
Edit Fields Info: null
Ownership Based AccessControl For Rasters: null
Child Resources:
Info
Histograms
Statistics
Key Properties
Legend
Raster Function Infos
Supported Operations:
Export Image
Identify
Measure
Compute Histograms
Compute Statistics Histograms
Get Samples
Compute Class Statistics
Query Boundary
Compute Pixel Location
Compute Angles
Validate
Project