View In:
ArcGIS JavaScript
ArcGIS Online Map Viewer
ArcGIS Earth
Service Description: HISTO_CARTE_TRAITE_TURIN_PARIS_ANNEXE_02_1754
Name: HISTO_CARTE_TRAITE_TURIN_PARIS_ANNEXE_02_1754
Description:
Single Fused Map Cache: false
Extent:
XMin: 2480824.070496775
YMin: 1099818.0117737534
XMax: 2518758.7517596195
YMax: 1126654.9495835886
Spatial Reference: 2056
(2056)
LatestVCSWkid(0)
Initial Extent:
XMin: 2480824.070496775
YMin: 1099818.0117737534
XMax: 2518758.7517596195
YMax: 1126654.9495835886
Spatial Reference: 2056
(2056)
LatestVCSWkid(0)
Full Extent:
XMin: 2480824.070496775
YMin: 1099818.0117737534
XMax: 2518758.7517596195
YMax: 1126654.9495835886
Spatial Reference: 2056
(2056)
LatestVCSWkid(0)
Pixel Size X: 2.6416908957412426
Pixel Size Y: 2.6416908957412333
Band Count: 3
Pixel Type: U8
RasterFunction Infos: {"rasterFunctionInfos": [{
"name": "None",
"description": "",
"help": ""
}]}
Mensuration Capabilities: Basic
Inspection Capabilities:
Has Histograms: true
Has Colormap: false
Has Multi Dimensions : false
Rendering Rule:
Min Scale: 0
Max Scale: 0
Resampling: false
Copyright Text:
Service Data Type: esriImageServiceDataTypeRGB
Min Values: 61, 55, 48
Max Values: 248, 241, 231
Mean Values: 219.72658575370997, 208.1906358018152, 183.49326405612305
Standard Deviation Values: 21.80079639447531, 21.662517198602067, 19.232076797473777
Object ID Field:
Fields:
None
Default Mosaic Method: Center
Allowed Mosaic Methods:
SortField:
SortValue: null
Mosaic Operator: First
Default Compression Quality: 75
Default Resampling Method: Bilinear
Max Record Count: null
Max Image Height: 4100
Max Image Width: 15000
Max Download Image Count: null
Max Mosaic Image Count: null
Allow Raster Function: true
Allow Copy: true
Allow Analysis: true
Allow Compute TiePoints: false
Supports Statistics: false
Supports Advanced Queries: false
Use StandardizedQueries: true
Raster Type Infos:
Name: Raster Dataset
Description: Supports all ArcGIS Raster Datasets
Help:
Has Raster Attribute Table: false
Edit Fields Info: null
Ownership Based AccessControl For Rasters: null
Child Resources:
Info
Histograms
Statistics
Key Properties
Legend
Raster Function Infos
Supported Operations:
Export Image
Identify
Measure
Compute Histograms
Compute Statistics Histograms
Get Samples
Compute Class Statistics
Query Boundary
Compute Pixel Location
Compute Angles
Validate
Project