View In:
ArcGIS JavaScript
ArcGIS Online Map Viewer
ArcGIS Earth
Service Description: HISTO_CARTE_TRAITE_TURIN_PARIS_ANNEXE_04_1756
Name: HISTO_CARTE_TRAITE_TURIN_PARIS_ANNEXE_04_1756
Description:
Single Fused Map Cache: false
Extent:
XMin: 2481513.3838
YMin: 1103120.7759255199
XMax: 2517621.036297487
YMax: 1129250.5411000003
Spatial Reference: 2056
(2056)
LatestVCSWkid(0)
Initial Extent:
XMin: 2481513.3838
YMin: 1103120.7759255199
XMax: 2517621.036297487
YMax: 1129250.5411000003
Spatial Reference: 2056
(2056)
LatestVCSWkid(0)
Full Extent:
XMin: 2481513.3838
YMin: 1103120.7759255199
XMax: 2517621.036297487
YMax: 1129250.5411000003
Spatial Reference: 2056
(2056)
LatestVCSWkid(0)
Pixel Size X: 1.7274735670025425
Pixel Size Y: 1.7274735670025378
Band Count: 3
Pixel Type: U8
RasterFunction Infos: {"rasterFunctionInfos": [{
"name": "None",
"description": "",
"help": ""
}]}
Mensuration Capabilities: Basic
Inspection Capabilities:
Has Histograms: true
Has Colormap: false
Has Multi Dimensions : false
Rendering Rule:
Min Scale: 0
Max Scale: 0
Resampling: false
Copyright Text:
Service Data Type: esriImageServiceDataTypeRGB
Min Values: 3, 3, 3
Max Values: 254, 255, 255
Mean Values: 182.37575286439613, 169.19234295878857, 146.4917243981855
Standard Deviation Values: 50.772658520200785, 48.40763597776078, 40.704577430877514
Object ID Field:
Fields:
None
Default Mosaic Method: Center
Allowed Mosaic Methods:
SortField:
SortValue: null
Mosaic Operator: First
Default Compression Quality: 75
Default Resampling Method: Bilinear
Max Record Count: null
Max Image Height: 4100
Max Image Width: 15000
Max Download Image Count: null
Max Mosaic Image Count: null
Allow Raster Function: true
Allow Copy: true
Allow Analysis: true
Allow Compute TiePoints: false
Supports Statistics: false
Supports Advanced Queries: false
Use StandardizedQueries: true
Raster Type Infos:
Name: Raster Dataset
Description: Supports all ArcGIS Raster Datasets
Help:
Has Raster Attribute Table: false
Edit Fields Info: null
Ownership Based AccessControl For Rasters: null
Child Resources:
Info
Histograms
Statistics
Key Properties
Legend
Raster Function Infos
Supported Operations:
Export Image
Identify
Measure
Compute Histograms
Compute Statistics Histograms
Get Samples
Compute Class Statistics
Query Boundary
Compute Pixel Location
Compute Angles
Validate
Project