View In:
ArcGIS JavaScript
ArcGIS Online Map Viewer
ArcGIS Earth
Service Description: HISTO_CARTE_TRAITE_TURIN_PARIS_ANNEXE_08_1825
Name: HISTO_CARTE_TRAITE_TURIN_PARIS_ANNEXE_08_1825
Description:
Single Fused Map Cache: false
Extent:
XMin: 2477860.7708497415
YMin: 1098191.500085387
XMax: 2505594.5112142465
YMax: 1135196.396648668
Spatial Reference: 2056
(2056)
LatestVCSWkid(0)
Initial Extent:
XMin: 2477860.7708497415
YMin: 1098191.500085387
XMax: 2505594.5112142465
YMax: 1135196.396648668
Spatial Reference: 2056
(2056)
LatestVCSWkid(0)
Full Extent:
XMin: 2477860.7708497415
YMin: 1098191.500085387
XMax: 2505594.5112142465
YMax: 1135196.396648668
Spatial Reference: 2056
(2056)
LatestVCSWkid(0)
Pixel Size X: 0.6873123433001656
Pixel Size Y: 0.6873123433001685
Band Count: 3
Pixel Type: U8
RasterFunction Infos: {"rasterFunctionInfos": [{
"name": "None",
"description": "",
"help": ""
}]}
Mensuration Capabilities: Basic
Inspection Capabilities:
Has Histograms: true
Has Colormap: false
Has Multi Dimensions : false
Rendering Rule:
Min Scale: 0
Max Scale: 0
Resampling: false
Copyright Text:
Service Data Type: esriImageServiceDataTypeRGB
Min Values: 50, 36, 18
Max Values: 255, 254, 233
Mean Values: 223.5231117381532, 213.80832947318166, 186.16118545916729
Standard Deviation Values: 18.6390169701446, 19.264535508225936, 18.051479225488627
Object ID Field:
Fields:
None
Default Mosaic Method: Center
Allowed Mosaic Methods:
SortField:
SortValue: null
Mosaic Operator: First
Default Compression Quality: 75
Default Resampling Method: Bilinear
Max Record Count: null
Max Image Height: 4100
Max Image Width: 15000
Max Download Image Count: null
Max Mosaic Image Count: null
Allow Raster Function: true
Allow Copy: true
Allow Analysis: true
Allow Compute TiePoints: false
Supports Statistics: false
Supports Advanced Queries: false
Use StandardizedQueries: true
Raster Type Infos:
Name: Raster Dataset
Description: Supports all ArcGIS Raster Datasets
Help:
Has Raster Attribute Table: false
Edit Fields Info: null
Ownership Based AccessControl For Rasters: null
Child Resources:
Info
Histograms
Statistics
Key Properties
Legend
Raster Function Infos
Supported Operations:
Export Image
Identify
Measure
Compute Histograms
Compute Statistics Histograms
Get Samples
Compute Class Statistics
Query Boundary
Compute Pixel Location
Compute Angles
Validate
Project