View In:
ArcGIS JavaScript
ArcGIS Online Map Viewer
ArcGIS Earth
Service Description: HISTO_CARTE_TRAITE_TURIN_PARIS_ANNEXE_14_1933
Name: HISTO_CARTE_TRAITE_TURIN_PARIS_ANNEXE_14_1933
Description:
Single Fused Map Cache: false
Extent:
XMin: 2479907.7503999993
YMin: 1102379.2305000015
XMax: 2511371.3355999994
YMax: 1121157.7467000014
Spatial Reference: 2056
(2056)
LatestVCSWkid(0)
Initial Extent:
XMin: 2479907.7503999993
YMin: 1102379.2305000015
XMax: 2511371.3355999994
YMax: 1121157.7467000014
Spatial Reference: 2056
(2056)
LatestVCSWkid(0)
Full Extent:
XMin: 2479907.7503999993
YMin: 1102379.2305000015
XMax: 2511371.3355999994
YMax: 1121157.7467000014
Spatial Reference: 2056
(2056)
LatestVCSWkid(0)
Pixel Size X: 0.6679457637193522
Pixel Size Y: 0.6679418154656027
Band Count: 3
Pixel Type: U8
RasterFunction Infos: {"rasterFunctionInfos": [{
"name": "None",
"description": "",
"help": ""
}]}
Mensuration Capabilities: Basic
Inspection Capabilities:
Has Histograms: true
Has Colormap: false
Has Multi Dimensions : false
Rendering Rule:
Min Scale: 0
Max Scale: 0
Resampling: false
Copyright Text:
Service Data Type: esriImageServiceDataTypeRGB
Min Values: 31, 25, 0
Max Values: 255, 255, 251
Mean Values: 225.05062574258403, 210.83390088036617, 179.21873733928828
Standard Deviation Values: 23.769530557657397, 23.86740489378073, 21.609586883031742
Object ID Field:
Fields:
None
Default Mosaic Method: Center
Allowed Mosaic Methods:
SortField:
SortValue: null
Mosaic Operator: First
Default Compression Quality: 75
Default Resampling Method: Bilinear
Max Record Count: null
Max Image Height: 4100
Max Image Width: 15000
Max Download Image Count: null
Max Mosaic Image Count: null
Allow Raster Function: true
Allow Copy: true
Allow Analysis: true
Allow Compute TiePoints: false
Supports Statistics: false
Supports Advanced Queries: false
Use StandardizedQueries: true
Raster Type Infos:
Name: Raster Dataset
Description: Supports all ArcGIS Raster Datasets
Help:
Has Raster Attribute Table: false
Edit Fields Info: null
Ownership Based AccessControl For Rasters: null
Child Resources:
Info
Histograms
Statistics
Key Properties
Legend
Raster Function Infos
Supported Operations:
Export Image
Identify
Measure
Compute Histograms
Compute Statistics Histograms
Get Samples
Compute Class Statistics
Query Boundary
Compute Pixel Location
Compute Angles
Validate
Project