View In:
ArcGIS JavaScript
ArcGIS Online Map Viewer
ArcGIS Earth
Service Description: IMAGE_AERIENNE_ORTHO_NOCTURNE_2013_04
Name: IMAGE_AERIENNE_ORTHO_NOCTURNE_2013_04
Description:
Single Fused Map Cache: false
Extent:
XMin: 2482168.1414812305
YMin: 1108756.5936990576
XMax: 2516202.8110177326
YMax: 1138787.1844665594
Spatial Reference: 2056
(2056)
LatestVCSWkid(0)
Initial Extent:
XMin: 2482168.1414812305
YMin: 1108756.5936990576
XMax: 2516202.8110177326
YMax: 1138787.1844665594
Spatial Reference: 2056
(2056)
LatestVCSWkid(0)
Full Extent:
XMin: 2482168.1414812305
YMin: 1108756.5936990576
XMax: 2516202.8110177326
YMax: 1138787.1844665594
Spatial Reference: 2056
(2056)
LatestVCSWkid(0)
Pixel Size X: 0.4004078769000247
Pixel Size Y: 0.4004078769000247
Band Count: 3
Pixel Type: U8
RasterFunction Infos: {"rasterFunctionInfos": [{
"name": "None",
"description": "",
"help": ""
}]}
Mensuration Capabilities: Basic
Inspection Capabilities:
Has Histograms: true
Has Colormap: false
Has Multi Dimensions : false
Rendering Rule:
Min Scale: 0
Max Scale: 0
Resampling: false
Copyright Text:
Service Data Type: esriImageServiceDataTypeRGB
Min Values: 0, 0, 0
Max Values: 252, 252, 252
Mean Values: 26.742816549333334, 27.651061249333335, 33.56915339755555
Standard Deviation Values: 73.7733534608167, 73.15785518328819, 71.30064737907756
Object ID Field:
Fields:
None
Default Mosaic Method: Center
Allowed Mosaic Methods:
SortField:
SortValue: null
Mosaic Operator: First
Default Compression Quality: 75
Default Resampling Method: Bilinear
Max Record Count: null
Max Image Height: 4100
Max Image Width: 15000
Max Download Image Count: null
Max Mosaic Image Count: null
Allow Raster Function: true
Allow Copy: true
Allow Analysis: true
Allow Compute TiePoints: false
Supports Statistics: false
Supports Advanced Queries: false
Use StandardizedQueries: true
Raster Type Infos:
Name: Raster Dataset
Description: Supports all ArcGIS Raster Datasets
Help:
Has Raster Attribute Table: false
Edit Fields Info: null
Ownership Based AccessControl For Rasters: null
Child Resources:
Info
Histograms
Statistics
Key Properties
Legend
Raster Function Infos
Supported Operations:
Export Image
Identify
Measure
Compute Histograms
Compute Statistics Histograms
Get Samples
Compute Class Statistics
Query Boundary
Compute Pixel Location
Compute Angles
Validate
Project