View In:
ArcGIS JavaScript
ArcGIS Online Map Viewer
ArcGIS Earth
Service Description: Orthophotos Agglo vraie 2025 (pixel 20 cm)
Name: IMAGE_AERIENNE_ORTHO_TRUE_2025_06
Description:
Single Fused Map Cache: false
Extent:
XMin: 2465000.0839180425
YMin: 1089000.0476094224
XMax: 2532000.083668448
YMax: 1156000.047359828
Spatial Reference: 2056
(2056)
LatestVCSWkid(0)
Initial Extent:
XMin: 2465000.0839180425
YMin: 1089000.0476094224
XMax: 2532000.083668448
YMax: 1156000.047359828
Spatial Reference: 2056
(2056)
LatestVCSWkid(0)
Full Extent:
XMin: 2465000.0839180425
YMin: 1089000.0476094224
XMax: 2532000.083668448
YMax: 1156000.047359828
Spatial Reference: 2056
(2056)
LatestVCSWkid(0)
Pixel Size X: 0.19999999925494194
Pixel Size Y: 0.19999999925494194
Band Count: 3
Pixel Type: U8
RasterFunction Infos: {"rasterFunctionInfos": [{
"name": "None",
"description": "",
"help": ""
}]}
Mensuration Capabilities: Basic
Inspection Capabilities:
Has Histograms: true
Has Colormap: false
Has Multi Dimensions : false
Rendering Rule:
Min Scale: 0
Max Scale: 0
Copyright Text:
Service Data Type: esriImageServiceDataTypeRGB
Min Values: 0, 20, 13
Max Values: 255, 255, 255
Mean Values: 86.83302883778018, 108.45448930816247, 113.50318434618383
Standard Deviation Values: 44.08662154053438, 35.531968733515924, 27.186673754473883
Object ID Field:
Fields:
None
Default Mosaic Method: Center
Allowed Mosaic Methods:
SortField:
SortValue: null
Mosaic Operator: First
Default Compression Quality: 75
Default Resampling Method: Nearest
Max Record Count: null
Max Image Height: 8192
Max Image Width: 8192
Max Download Image Count: null
Max Mosaic Image Count: null
Allow Raster Function: true
Allow Copy: true
Allow Analysis: true
Allow Compute TiePoints: false
Supports Statistics: false
Supports Advanced Queries: false
Use StandardizedQueries: true
Raster Type Infos:
Name: Raster Dataset
Description: Supports all ArcGIS Raster Datasets
Help:
Has Raster Attribute Table: false
Edit Fields Info: null
Ownership Based AccessControl For Rasters: null
Child Resources:
Info
Histograms
Statistics
Key Properties
Legend
Raster Function Infos
Supported Operations:
Export Image
Identify
Measure
Compute Histograms
Compute Statistics Histograms
Get Samples
Compute Class Statistics
Query Boundary
Compute Pixel Location
Compute Angles
Validate
Project