View In:
ArcGIS JavaScript
ArcGIS Online Map Viewer
ArcGIS Earth
Service Description: IMAGE_SATELLITE_ORTHO_2023_11
Name: IMAGE_SATELLITE_ORTHO_2023_11
Description:
Single Fused Map Cache: false
Extent:
XMin: 2484845.669308141
YMin: 1109482.0568923429
XMax: 2513319.269378856
YMax: 1136110.6569584757
Spatial Reference: 2056
(2056)
LatestVCSWkid(0)
Initial Extent:
XMin: 2484845.669308141
YMin: 1109482.0568923429
XMax: 2513319.269378856
YMax: 1136110.6569584757
Spatial Reference: 2056
(2056)
LatestVCSWkid(0)
Full Extent:
XMin: 2484845.669308141
YMin: 1109482.0568923429
XMax: 2513319.269378856
YMax: 1136110.6569584757
Spatial Reference: 2056
(2056)
LatestVCSWkid(0)
Pixel Size X: 0.30000000074505806
Pixel Size Y: 0.30000000074505806
Band Count: 6
Pixel Type: U16
RasterFunction Infos: {"rasterFunctionInfos": [{
"name": "None",
"description": "",
"help": ""
}]}
Mensuration Capabilities: Basic
Inspection Capabilities:
Has Histograms: true
Has Colormap: false
Has Multi Dimensions : false
Rendering Rule:
Min Scale: 0
Max Scale: 0
Copyright Text:
Service Data Type: esriImageServiceDataTypeGeneric
Min Values: 1, 1, 1, 1, 1, 1
Max Values: 27015, 27015, 27015, 25885, 26394, 25276
Mean Values: 669.6773365572694, 759.4526265255338, 616.6017425771659, 2467.787479555874, 1674.208855033233, 702.1029717914502
Standard Deviation Values: 572.1917043905652, 491.12566255194434, 393.23562840131257, 1693.635239417747, 1076.400939451329, 335.0276651094144
Object ID Field:
Fields:
None
Default Mosaic Method: Center
Allowed Mosaic Methods:
SortField:
SortValue: null
Mosaic Operator: First
Default Compression Quality: 75
Default Resampling Method: Bilinear
Max Record Count: null
Max Image Height: 4100
Max Image Width: 15000
Max Download Image Count: null
Max Mosaic Image Count: null
Allow Raster Function: true
Allow Copy: true
Allow Analysis: true
Allow Compute TiePoints: false
Supports Statistics: false
Supports Advanced Queries: false
Use StandardizedQueries: true
Raster Type Infos:
Name: Raster Dataset
Description: Supports all ArcGIS Raster Datasets
Help:
Has Raster Attribute Table: false
Edit Fields Info: null
Ownership Based AccessControl For Rasters: null
Child Resources:
Info
Histograms
Statistics
Key Properties
Legend
Raster Function Infos
Supported Operations:
Export Image
Identify
Measure
Compute Histograms
Compute Statistics Histograms
Get Samples
Compute Class Statistics
Query Boundary
Compute Pixel Location
Compute Angles
Validate
Project