View In:
ArcGIS JavaScript
ArcGIS Online Map Viewer
ArcGIS Earth
Service Description: Image Satellite Pléiades Néo Janvier 2026 (Pixel 15 Cm)
Name: IMAGE_SATELLITE_ORTHO_2026_01
Description:
Single Fused Map Cache: false
Extent:
XMin: 2485235.598376207
YMin: 1109448.6881742328
XMax: 2513735.598093085
YMax: 1136448.687906012
Spatial Reference: 2056
(2056)
LatestVCSWkid(0)
Initial Extent:
XMin: 2485235.598376207
YMin: 1109448.6881742328
XMax: 2513735.598093085
YMax: 1136448.687906012
Spatial Reference: 2056
(2056)
LatestVCSWkid(0)
Full Extent:
XMin: 2485235.598376207
YMin: 1109448.6881742328
XMax: 2513735.598093085
YMax: 1136448.687906012
Spatial Reference: 2056
(2056)
LatestVCSWkid(0)
Pixel Size X: 0.14999999850988388
Pixel Size Y: 0.14999999850988388
Band Count: 4
Pixel Type: U8
RasterFunction Infos: {"rasterFunctionInfos": [{
"name": "None",
"description": "",
"help": ""
}]}
Mensuration Capabilities: Basic
Inspection Capabilities:
Has Histograms: true
Has Colormap: false
Has Multi Dimensions : false
Rendering Rule:
Min Scale: 0
Max Scale: 0
Copyright Text:
Service Data Type: esriImageServiceDataTypeGeneric
Min Values: 0, 0, 0, 0
Max Values: 255, 255, 255, 255
Mean Values: 103.07016145916131, 111.79975527412338, 101.90871440672153, 254.99985464223283
Standard Deviation Values: 52.816835567074186, 45.047538208560226, 34.776851113722756, 0.15861562578250635
Object ID Field:
Fields:
None
Default Mosaic Method: Center
Allowed Mosaic Methods:
SortField:
SortValue: null
Mosaic Operator: First
Default Compression Quality: 75
Default Resampling Method: Nearest
Max Record Count: null
Max Image Height: 8192
Max Image Width: 8192
Max Download Image Count: null
Max Mosaic Image Count: null
Allow Raster Function: true
Allow Copy: true
Allow Analysis: true
Allow Compute TiePoints: false
Supports Statistics: false
Supports Advanced Queries: false
Use StandardizedQueries: true
Raster Type Infos:
Name: Raster Dataset
Description: Supports all ArcGIS Raster Datasets
Help:
Has Raster Attribute Table: false
Edit Fields Info: null
Ownership Based AccessControl For Rasters: null
Child Resources:
Info
Histograms
Statistics
Key Properties
Legend
Raster Function Infos
Supported Operations:
Export Image
Identify
Measure
Compute Histograms
Compute Statistics Histograms
Get Samples
Compute Class Statistics
Query Boundary
Compute Pixel Location
Compute Angles
Validate
Project